BEGIN:VCALENDAR
VERSION:2.0
PRODID:-//wp-events-plugin.com//6.4.6.4//EN
TZID:Europe/Andorra
X-WR-TIMEZONE:Europe/Andorra
BEGIN:VEVENT
UID:0-73@ajuscrabble.cat
DTSTART;TZID=Europe/Andorra:20231125T101500
DTEND;TZID=Europe/Andorra:20231125T200000
DTSTAMP:20231122T115326Z
URL:https://www.ajuscrabble.cat/events/4t-campionat-de-scrabble-en-catala-
 de-vilafranca/
SUMMARY:4t Campionat de Scrabble en català de Vilafranca
DESCRIPTION:El dissabte 25 de novembre se celebrarà el 4t Campionat de Scr
 abble en català de Vilafranca al Sam Casino (Rambla de Sant Francesc\, 2
 5\, 1r\, de Vilafranca)\, a pocs minuts de l'estació de tren.\n\nEl dinar
  serà al mateix Sam Casino\, amb un menú de 20 €.\nInscripció\nLes in
 scripcions es poden formalitzar clicant al següent botó i el donatiu per
  a participar-hi és de 10 €.\n\n[su_button url="https://form.jotform.co
 m/92945674077370" target="blank" background="#64a823" color="#ffffff" size
 ="4" icon="icon: pencil-square-o" icon_color="#ffffff"]Inscriu-te al campi
 onat[/su_button]\nHorari\n\n 	10:15-10:30 h: Rebuda dels participants\n 	1
 0:30-14:00 h: Rondes 1\, 2 i 3\n 	14:00-16:00 h: Pausa per dinar\n 	16:00-
 19:30 h: Rondes 4\, 5 i 6\n 	19:40 h: Lliurament de premis i cloenda del C
 ampionat\n\nPremis\nEs guardonaran amb productes locals:\n\n 	1r classific
 at\n 	2n classificat\n 	3r classificat\n 	Millor sub1000\n 	Premi a qui fa
 ci més scrabbles\n 	Premi a la jugada amb més puntuació amb la lletra 
 V\n 	Premi per al millor debutant (si n’hi ha)\n\nEls premis no seran ac
 umulatius.\nReglament\nEl campionat es jugarà a sis rondes d’un contra 
 un\, seguint el sistema suís\, es regirà pels reglaments de la FISC. Es 
 poden fer canvis de fitxes encara que hi hagi menys de 7 fitxes al saquet 
 i no es poden fer «senyors» (canviar fitxes sense perdre el torn\, quan 
 totes les fitxes del faristol són vocals o consonants). El diccionari arb
 itral serà el Leximots.\nOrganitzadors i col·laboradors\nEl 4t Campionat
  de Scrabble de Vilafranca l'organitza la FISC\, amb l’Àngels Castells 
 com a amfitriona\, i amb la col·laboració de la Vinateria Inzolia\, la T
 intoreria Juncosa\, Aula Catalunya i Edicions i propostes culturals And
 ana.
CATEGORIES:Campionats
LOCATION:Sam Casino\, Rambla de Sant Francesc\, 25\, 1r\, Vilafranca del Pe
 nedès\, Spain
GEO:41.345448;1.698813
X-APPLE-STRUCTURED-LOCATION;VALUE=URI;X-ADDRESS=Rambla de Sant Francesc\, 2
 5\, 1r\, Vilafranca del Penedès\, Spain;X-APPLE-RADIUS=100;X-TITLE=Sam Ca
 sino:geo:41.345448,1.698813
END:VEVENT
BEGIN:VEVENT
UID:0-77@ajuscrabble.cat
DTSTART;TZID=Europe/Andorra:20240316T093000
DTEND;TZID=Europe/Andorra:20240316T193000
DTSTAMP:20240312T131323Z
URL:https://www.ajuscrabble.cat/events/8e-campionat-de-scrabble-de-canet-d
 e-mar/
SUMMARY:8è Campionat de Scrabble de Canet de Mar
DESCRIPTION:El dissabte 16 de març el Club de Scrabble en Català Canet de
  Mar organitza el 8è Campionat de Scrabble de Canet de Mar al CRTTT - Esc
 ola de Teixits a l’espai del Bar (entrada per Plaça Universitat\, entre
  el museu i el CAP).\nFormat del campionat:\nEl campionat es jugarà a 6 r
 ondes d’un contra un\, seguint el sistema suís. El reglament serà el d
 e la FISC\, el diccionari arbitral serà el Leximots i els resultats comp
 taran en el rànquing del RaScCat.\nHoraris:\n\n 	9:30 - 10:00 h: Rebuda d
 els participants i inscripcions.\n 	10:00 - 13:30 h: Tres partides matinal
 s.\n 	14:00 - 16:00 h: Dinar.\n 	16:00 - 19:00 h: Tres darreres rondes.\n 
 	19:15 - 19:30 h: Lliurament de premis i cloenda del Campionat.\n\nPremis:
 \nHi haurà premis per als tres primers classificats\, major nombre de scr
 abbles\, millor debutant i per a la millor jugada amb la “Ç”. Seran p
 remis relacionats amb l’any Domènech i el Modernisme.\n\nHi haurà obse
 quis per a tots els participants\, gràcies a la col·laboració del CEDIM
  (Centre d’Estudis Canetencs) i al CRTTT – Escola de Teixits.\nInscrip
 ció:\nPer inscriure’s o fer qualsevol consulta\, cal enviar un correu e
 lectrònic a merce.illa@gmail.com\n\nLes inscripcions s'han de fer preferi
 blement fins al dimecres 13 de març\, però si queden places restaran obe
 rtes fins a les 10 h del mateix dia del campionat.\n\nLes places són limi
 tades i el donatiu de participació serà de 10 €.\nOrganitzadors i co
 l·laboradors:\nEl 8è Campionat de Scrabble de Canet de Mar l'organitzen 
 el Club de Scrabble en Català Canet de Mar juntament amb les àrees d'Edu
 cació i Cultura de l’Ajuntament de Canet de Mar\, amb la col·laboraci
 ó de la Federació Internacional de Scrabble en Català i la secció loca
 l de la Plataforma per la Llengua a Canet de Mar. L'espai està cedit per 
 la Diputació de Barcelona i amb el suport de la Generalitat de Catalunya.
CATEGORIES:Campionats
LOCATION:Bar de l'Escola de Teixits de Punt\, Plaça Universitat\, Canet de
  Mar\, Spain
GEO:41.588889;2.579656
X-APPLE-STRUCTURED-LOCATION;VALUE=URI;X-ADDRESS=Plaça Universitat\, Canet 
 de Mar\, Spain;X-APPLE-RADIUS=100;X-TITLE=Bar de l'Escola de Teixits de Pu
 nt:geo:41.588889,2.579656
END:VEVENT
BEGIN:VEVENT
UID:0-89@ajuscrabble.cat
DTSTART;TZID=Europe/Andorra:20250201T094500
DTEND;TZID=Europe/Andorra:20250201T193000
DTSTAMP:20250123T093428Z
URL:https://www.ajuscrabble.cat/events/9e-campionat-de-scrabble-de-canet-d
 e-mar/
SUMMARY:9è Campionat de Scrabble de Canet de Mar
DESCRIPTION:El dissabte 1 de febrer del 2025 el Club de Scrabble en Català
  Canet de Mar organitza el 9è Campionat de Scrabble de Canet de Mar al Ce
 ntre de Recerca i Transferència de Tecnologia Tèxtil (CRTTT) - Escola de
  Teixits a l’espai del Bar (entrada per Plaça Universitat\, entre el mu
 seu i el CAP).\nFormat del campionat:\nEl campionat es jugarà a 6 rondes 
 d’un contra un\, seguint el sistema suís. El reglament serà el de la F
 ISC\, el diccionari arbitral serà el Leximots i els resultats comptaran e
 n els rànquings del RaScCat i del BARRUF.\nHoraris:\n\n 	9:30 - 10:00 h: 
 Rebuda dels participants i inscripcions.\n 	10:00 - 13:45 h: Tres partides
  matinals.\n 	14:00 - 16:00 h: Dinar al restaurant Madame\, ubicat a l'Òd
 eon (lloc d'interès arquitectònic i cultural de Canet\, recentment reedi
 ficat\, bressol de les 6 hores de Cançó a Canet i proper a on juguem).\n
  	16:00 - 19:00 h: Tres darreres rondes.\n 	19:15 - 19:30 h: Lliurament de
  premis i cloenda del Campionat.\n\nPremis:\nHi haurà premis per als tres
  primers classificats\, per a la millor jugada amb la “Ç”\, per al ma
 jor nombre de scrabbles i per al millor debutant. Els premis estaran relac
 ionats amb el poble de Canet de Mar i de km 0.\nInscripció:\nLes inscripc
 ions s'han de fer no més tard del diumenge 26 de gener. Qui estigui inter
 essat en el dinar de grup\, cal que indiqui quin segon tria d'aquest menú
 .\n\nPer inscriure’s o fer qualsevol consulta\, cal enviar un correu ele
 ctrònic a merce.illa@gmail.com o bé per WhatsApp al 600751613 (Mercè).\
 nOrganitzadors i col·laboradors:\nEl 9è Campionat de Scrabble de Canet d
 e Mar l'organitza el Club de Scrabble en Català Canet de Mar amb el supor
 t de l’Ajuntament de Canet de Mar i la col·laboració de la Federació 
 Internacional de Scrabble en Català i la secció local de la Plataforma p
 er la Llengua a Canet de Mar. L'espai està cedit per la Diputació de Bar
 celona i amb el suport de la Generalitat de Catalunya.
CATEGORIES:Campionats
LOCATION:Bar de l'Escola de Teixits de Punt\, Plaça Universitat\, Canet de
  Mar\, Spain
GEO:41.588889;2.579656
X-APPLE-STRUCTURED-LOCATION;VALUE=URI;X-ADDRESS=Plaça Universitat\, Canet 
 de Mar\, Spain;X-APPLE-RADIUS=100;X-TITLE=Bar de l'Escola de Teixits de Pu
 nt:geo:41.588889,2.579656
END:VEVENT
BEGIN:VEVENT
UID:0-92@ajuscrabble.cat
DTSTART;TZID=Europe/Andorra:20251122T101500
DTEND;TZID=Europe/Andorra:20251122T200000
DTSTAMP:20251118T173253Z
URL:https://www.ajuscrabble.cat/events/6e-campionat-de-scrabble-de-vilafra
 nca/
SUMMARY:6è Campionat de Scrabble en català de Vilafranca
DESCRIPTION:El dissabte 22 de novembre de 2025 se celebrarà el 6è Campion
 at de Scrabble en català de Vilafranca\, al Centre Artístic del Penedès
 \, L’Agrícol. Per qui hi vagi en tren\, l’estació és a prop.\n\nEl 
 6è Campionat de Scrabble de Vilafranca és organitzat per la FISC\, amb l
 ’Àngels Castells com a amfitriona\, i amb la col·laboració de la Vina
 teria Inzolia\, la Tintoreria Juncosa\, Aula Catalunya i Edicions i propos
 tes culturals Andana. Amb el suport de la Conselleria de Política Lingü
 ística de la Generalitat.\nHorari\n\n 	10:15 h. Rebuda dels participants\
 n 	10:30 - 14:00 h. Rondes 1 a 3\n 	14:00 - 16:00 h. Pausa per dinar\n 	16
 :00 - 19:30 h. Rondes 4 a 6\n 	19:40 h. Lliurament de premis i cloenda del
  Campionat\n\nPremis\nEs guardonaran amb productes locals:\n\n 	1r classif
 icat\n 	2n classificat\n 	3r classificat\n 	Millor sub1000\n 	Premi a qui 
 faci més scrabbles\n 	Premi a la jugada amb més puntuació amb la lletra
  V (de Vilafranca)\n 	Premi per al millor debutant (si n’hi ha)\n\nEls p
 remis no seran acumulables.\nReglament\nEl campionat de Vilafranca es juga
 rà en 6 rondes d'1 contra 1\, segons el sistema suís\, es regirà pel re
 glament de la FISC i el diccionari arbitral serà el Leximots.\nInscripci
 ó\nLes inscripcions es poden formalitzar a través d’aquest formulari. 
 El donatiu per a participar-hi és de 10 euros.
CATEGORIES:Campionats
LOCATION:Centre Artístic del Penedès - L'Agrícol\, Passatge d'Alcover\, 
 2\, Vilafranca del Penedès\, Barcelona\, 08720\, Spain
GEO:41.344823;1.700048
X-APPLE-STRUCTURED-LOCATION;VALUE=URI;X-ADDRESS=Passatge d'Alcover\, 2\, Vi
 lafranca del Penedès\, Barcelona\, 08720\, Spain;X-APPLE-RADIUS=100;X-TIT
 LE=Centre Artístic del Penedès - L'Agrícol:geo:41.344823,1.700048
END:VEVENT
BEGIN:VTIMEZONE
TZID:Europe/Andorra
X-LIC-LOCATION:Europe/Andorra
BEGIN:STANDARD
DTSTART:20231029T020000
TZOFFSETFROM:+0200
TZOFFSETTO:+0100
TZNAME:CET
END:STANDARD
BEGIN:DAYLIGHT
DTSTART:20240331T030000
TZOFFSETFROM:+0100
TZOFFSETTO:+0200
TZNAME:CEST
END:DAYLIGHT
BEGIN:STANDARD
DTSTART:20241027T020000
TZOFFSETFROM:+0200
TZOFFSETTO:+0100
TZNAME:CET
END:STANDARD
BEGIN:DAYLIGHT
DTSTART:20250330T030000
TZOFFSETFROM:+0100
TZOFFSETTO:+0200
TZNAME:CEST
END:DAYLIGHT
BEGIN:STANDARD
DTSTART:20251026T020000
TZOFFSETFROM:+0200
TZOFFSETTO:+0100
TZNAME:CET
END:STANDARD
END:VTIMEZONE
END:VCALENDAR