BEGIN:VCALENDAR
VERSION:2.0
PRODID:-//wp-events-plugin.com//6.4.6.4//EN
TZID:Europe/Andorra
X-WR-TIMEZONE:Europe/Andorra
BEGIN:VEVENT
UID:0-99@ajuscrabble.cat
DTSTART;TZID=Europe/Andorra:20260321T100000
DTEND;TZID=Europe/Andorra:20260321T140000
DTSTAMP:20260310T204427Z
URL:https://www.ajuscrabble.cat/events/trobada-de-scrabble-a-la-llibreria-
 ona/
SUMMARY:Trobada de Scrabble a la llibreria ONA
DESCRIPTION:Un dissabte al mes fem una trobada per jugar a Scrabble en cata
 là a la llibreria Ona. Un espai per jugar\, aprendre i compartir paraules
 !\n\nLa trobada del mes de març serà el dissabte 21\, de 10 a 14 hores\,
  a la llibreria ONA.\n\nMés informació i inscripció a la nostra pàgina
  sobre les trobades de Scrabble a la llibreria ONA.
CATEGORIES:Altres activitats
LOCATION:Llibreria ONA\, Pau Claris\, 94\, Barcelona\, Spain
GEO:41.390411;2.17059
X-APPLE-STRUCTURED-LOCATION;VALUE=URI;X-ADDRESS=Pau Claris\, 94\, Barcelona
 \, Spain;X-APPLE-RADIUS=100;X-TITLE=Llibreria ONA:geo:41.390411,2.17059
END:VEVENT
BEGIN:VEVENT
UID:0-100@ajuscrabble.cat
DTSTART;TZID=Europe/Andorra:20260425T100000
DTEND;TZID=Europe/Andorra:20260425T140000
DTSTAMP:20260310T204325Z
URL:https://www.ajuscrabble.cat/events/trobada-de-scrabble-a-la-llibreria-
 ona-2/
SUMMARY:Trobada de Scrabble a la llibreria ONA
DESCRIPTION:Un dissabte al mes fem una trobada per jugar a Scrabble en cata
 là a la llibreria Ona. Un espai per jugar\, aprendre i compartir paraules
 !\n\nLa trobada del mes d'abril serà el dissabte 25\, de 10 a 14 hores\, 
 a la llibreria ONA.\n\nMés informació i inscripció a la nostra pàgina 
 sobre les trobades de Scrabble a la llibreria ONA.
CATEGORIES:Altres activitats
LOCATION:Llibreria ONA\, Pau Claris\, 94\, Barcelona\, Spain
GEO:41.390411;2.17059
X-APPLE-STRUCTURED-LOCATION;VALUE=URI;X-ADDRESS=Pau Claris\, 94\, Barcelona
 \, Spain;X-APPLE-RADIUS=100;X-TITLE=Llibreria ONA:geo:41.390411,2.17059
END:VEVENT
BEGIN:VEVENT
UID:0-101@ajuscrabble.cat
DTSTART;TZID=Europe/Andorra:20260530T100000
DTEND;TZID=Europe/Andorra:20260530T140000
DTSTAMP:20260310T204643Z
URL:https://www.ajuscrabble.cat/events/trobada-de-scrabble-a-la-llibreria-
 ona-3/
SUMMARY:Trobada de Scrabble a la llibreria ONA
DESCRIPTION:Un dissabte al mes fem una trobada per jugar a Scrabble en cata
 là a la llibreria Ona. Un espai per jugar\, aprendre i compartir paraules
 !\n\nLa trobada del mes de maig serà el dissabte 30\, de 10 a 14 hores\, 
 a la llibreria ONA.\n\nMés informació i inscripció a la nostra pàgina 
 sobre les trobades de Scrabble a la llibreria ONA.
CATEGORIES:Altres activitats
LOCATION:Llibreria ONA\, Pau Claris\, 94\, Barcelona\, Spain
GEO:41.390411;2.17059
X-APPLE-STRUCTURED-LOCATION;VALUE=URI;X-ADDRESS=Pau Claris\, 94\, Barcelona
 \, Spain;X-APPLE-RADIUS=100;X-TITLE=Llibreria ONA:geo:41.390411,2.17059
END:VEVENT
BEGIN:VEVENT
UID:0-102@ajuscrabble.cat
DTSTART;TZID=Europe/Andorra:20260613T100000
DTEND;TZID=Europe/Andorra:20260613T140000
DTSTAMP:20260310T204814Z
URL:https://www.ajuscrabble.cat/events/trobada-de-scrabble-a-la-llibreria-
 ona-4/
SUMMARY:Trobada de Scrabble a la llibreria ONA
DESCRIPTION:Un dissabte al mes fem una trobada per jugar a Scrabble en cata
 là a la llibreria Ona. Un espai per jugar\, aprendre i compartir paraules
 !\n\nLa trobada del mes de juny serà el dissabte 13\, de 10 a 14 hores\, 
 a la llibreria ONA.\n\nMés informació i inscripció a la nostra pàgina 
 sobre les trobades de Scrabble a la llibreria ONA.
CATEGORIES:Altres activitats
LOCATION:Llibreria ONA\, Pau Claris\, 94\, Barcelona\, Spain
GEO:41.390411;2.17059
X-APPLE-STRUCTURED-LOCATION;VALUE=URI;X-ADDRESS=Pau Claris\, 94\, Barcelona
 \, Spain;X-APPLE-RADIUS=100;X-TITLE=Llibreria ONA:geo:41.390411,2.17059
END:VEVENT
BEGIN:VEVENT
UID:0-103@ajuscrabble.cat
DTSTART;TZID=Europe/Andorra:20260718T100000
DTEND;TZID=Europe/Andorra:20260718T140000
DTSTAMP:20260310T204919Z
URL:https://www.ajuscrabble.cat/events/trobada-de-scrabble-a-la-llibreria-
 ona-5/
SUMMARY:Trobada de Scrabble a la llibreria ONA
DESCRIPTION:Un dissabte al mes fem una trobada per jugar a Scrabble en cata
 là a la llibreria Ona. Un espai per jugar\, aprendre i compartir paraules
 !\n\nLa trobada del mes de juliol serà el dissabte 18\, de 10 a 14 hores\
 , a la llibreria ONA.\n\nMés informació i inscripció a la nostra pàgin
 a sobre les trobades de Scrabble a la llibreria ONA.
CATEGORIES:Altres activitats
LOCATION:Llibreria ONA\, Pau Claris\, 94\, Barcelona\, Spain
GEO:41.390411;2.17059
X-APPLE-STRUCTURED-LOCATION;VALUE=URI;X-ADDRESS=Pau Claris\, 94\, Barcelona
 \, Spain;X-APPLE-RADIUS=100;X-TITLE=Llibreria ONA:geo:41.390411,2.17059
END:VEVENT
BEGIN:VTIMEZONE
TZID:Europe/Andorra
X-LIC-LOCATION:Europe/Andorra
BEGIN:STANDARD
DTSTART:20251026T020000
TZOFFSETFROM:+0200
TZOFFSETTO:+0100
TZNAME:CET
END:STANDARD
BEGIN:DAYLIGHT
DTSTART:20260329T030000
TZOFFSETFROM:+0100
TZOFFSETTO:+0200
TZNAME:CEST
END:DAYLIGHT
END:VTIMEZONE
END:VCALENDAR