BEGIN:VCALENDAR
VERSION:2.0
PRODID:-//wp-events-plugin.com//6.4.6.4//EN
TZID:Europe/Andorra
X-WR-TIMEZONE:Europe/Andorra
BEGIN:VEVENT
UID:6-4@ajuscrabble.cat
DTSTART;TZID=Europe/Andorra:20180120T100000
DTEND;TZID=Europe/Andorra:20180120T193000
DTSTAMP:20181029T225958Z
URL:https://www.ajuscrabble.cat/events/jornada-de-la-llisca-i-partida-de-l
 a-disca-al-prat-de-llobregat/
SUMMARY:2a jornada de la LLISCA i 2a partida de la DISCA al Prat de Llobreg
 at
DESCRIPTION:La segona jornada de la 6a temporada de la LLISCA i la 2a parti
 da de la 3a temporada de la DISCA es jugaran el dissabte 20 de gener del 
 2018\, al Centre Cívic Sant Jordi - Ribera Baixa que està situat al c
 arrer de Dolores Ibárruri 45-47 del Prat de Llobregat. La jornada està o
 rganitzada per Scrabble Delta Prat.\n\nDe 10 a 14h del matí es jugaran le
 s 3 partides corresponents a la 2a jornada de la LLISCA i a la tarda\, d
 e 16 a 19.30 hores\, es jugarà la partida de la DISCA. Les inscripcions s
 ón independents\, per tant es pot participar només a una de les activita
 ts o a totes dues.\n\nEn aquesta jornada de la LLISCA\, es jugarà amb rel
 lotges d’escacs programats a 25 minuts per jugador i el diccionari arbit
 ral serà el DISC (que es basa en el DIEC). Els equips participants haura
 n de portar un joc complet: tauler\, faristols i fitxes i\, si és possib
 le\, un rellotge d’escacs.\n\nPel que fa a la partida de la DISCA\, rec
 ordeu de portar el vostre propi joc i fer la reserva de la vostra plaça m
 itjançant el formulari d’inscripció\, tenint en compte que el nombre d
 e places es limita a 16 com a màxim. El preu d’inscripció de la DISCA 
 és de 2€ per a socis de l’AJUSC i de 3€ per als no socis.\n\nUs pre
 guem que ompliu el formulari de confirmació d’assistència d’aquesta 
 jornada\, abans de les 23.59 hores del dijous 18 de gener\, per informar-n
 os si assistireu a la jornada\, així com d’altres detalls que ens seran
  útils per a l’organització de la trobada.\n\n	Inscripció a la LLISCA
  i la DISCA del Prat de Llobregat\n	Assistència a les jornades de la 6a t
 emporada de la LLISCA\n	Assistència a les partides de la 3a temporada de 
 la DISCA\n
CATEGORIES:6a LLISCA,DISCA
LOCATION:Centre Cívic Sant Jordi - Ribera Baixa\, Dolores Ibárruri\, 45\,
  El Prat de Llobregat\, Barcelona\, 08820\, Spain
GEO:41.31978173434936;2.0860948460326654
X-APPLE-STRUCTURED-LOCATION;VALUE=URI;X-ADDRESS=Dolores Ibárruri\, 45\, El
  Prat de Llobregat\, Barcelona\, 08820\, Spain;X-APPLE-RADIUS=100;X-TITLE=
 Centre Cívic Sant Jordi - Ribera Baixa:geo:41.31978173434936,2.0860948460
 326654
END:VEVENT
BEGIN:VEVENT
UID:0-21@ajuscrabble.cat
DTSTART;TZID=Europe/Andorra:20181215T100000
DTEND;TZID=Europe/Andorra:20181215T140000
DTSTAMP:20181212T194429Z
URL:https://www.ajuscrabble.cat/events/jornada-de-la-7a-temporada-de-la-ll
 isca-al-prat-de-llobregat/
SUMMARY:2a jornada de la 7a temporada de la LLISCA al Prat de Llobregat
DESCRIPTION:El dissabte 15 de desembre\, coincidint amb la 45a Fira Avícol
 a de la Raça Prat\, el Prat de Llobregat acull la 2a jornada de la Lliga
  Itinerant de Scrabble en Català (LLISCA)\, organitzada pel Club de Scrab
 ble Delta Prat. El lloc on es disputaran les partides és la seu d'Amics d
 'El Prat\, situada al carrer del Centre\, 2\, del Prat de Llobregat. La co
 nvocatòria es a les 10 hores i la jornada acabarà cap a les 14.00 hores.
 \n\nEn aquesta jornada de la LLISCA\, es jugarà amb rellotges d’escacs
  programats a 25 minuts per jugador i el diccionari arbitral serà el DIS
 C (que es basa en el DIEC). Els equips participants hauran de portar com 
 a mínim un joc complet: tauler\, faristols i fitxes i\, si és possible\
 , un rellotge d’escacs.\n\nUs preguem que ompliu el formulari de confi
 rmació d’assistència d’aquesta jornada\, clicant a l’enllaç que h
 i ha després d’aquest paràgraf\, abans de les 23.59 hores del divendr
 es 14 de desembre\, per informar-nos si assistireu a la jornada\, així co
 m d’altres detalls que ens seran útils per a l’organització de la tr
 obada. Si sou jugadors habituals d’aquestes competicions i NO podeu p
 articipar-hi\, indiqueu-ho també al formulari\, si us plau. També cal q
 ue complimenteu el formulari d’inscripció d’equips a la 7a LLISCA\, 
 que trobareu a sota.\n\n 	\n\n 	Formulari d’inscripció a la jornada de 
 la LLISCA del Prat\n 	Assistència a les jornades de la 7a temporada de la
  LLISCA\n 	Formulari d’inscripció d’equips a la 7a temporada de la LL
 ISCA\n\n\n
CATEGORIES:7a LLISCA
LOCATION:Amics d'El Prat\, Carrer del Centre\, 2\, El Prat de Llobregat\, S
 pain
GEO:41.3311664;2.093930699999987
X-APPLE-STRUCTURED-LOCATION;VALUE=URI;X-ADDRESS=Carrer del Centre\, 2\, El 
 Prat de Llobregat\, Spain;X-APPLE-RADIUS=100;X-TITLE=Amics d'El Prat:geo:4
 1.3311664,2.093930699999987
END:VEVENT
BEGIN:VEVENT
UID:0-41@ajuscrabble.cat
DTSTART;TZID=Europe/Andorra:20200328T094500
DTEND;TZID=Europe/Andorra:20200328T200000
DTSTAMP:20200322T232324Z
URL:https://www.ajuscrabble.cat/events/1r-campionat-de-scrabble-de-lescarx
 ofa-del-prat/
SUMMARY:[AJORNAT] 1r Campionat de Scrabble de l'escarxofa del Prat
DESCRIPTION:El 1r Campionat de Scrabble de l’escarxofa del Prat ha qued
 at ajornat a causa del coronavirus. Quan sigui possible s’anunciarà u
 na nova data. El Club de Scrabble Delta Prat està estudiant traslladar-lo
  al juliol o a partir del novembre.\nEl dissabte 28 de març del 2020 el 
 Club de Scrabble Delta Prat organitzarà el 1r Campionat de Scrabble de 
 l’escarxofa del Prat al local d’Amics d’El Prat (C/ del Centre\, 2\
 , del Prat de Llobregat). El campionat es disputarà de 9.45 a 20 hores ap
 roximadament\, amb un total de 6 rondes amb sistema suís. Al migdia es fa
 rà un dinar de germanor al Cafè de l'Artesà.\n\n\n\n\nCom a novetat\, a
 quest campionat serà temàtic i les paraules relacionades amb les escarxo
 fes i amb l'agricultura del Prat tindran una bonificació de 10 punts. A m
 és\, un dels premis del campionat serà per a la paraula de més puntuaci
 ó relacionada amb aquesta temàtica. També hi haurà premis al major nom
 bre de Scrabbles i per als 3 primers classificats.\n\nMés informació i i
 nscripcions al web del Club de Scrabble Delta Prat.\n\n\n\n
ATTACH;FMTTYPE=image/jpeg:https://www.ajuscrabble.cat/files/2020/02/1r-Cam
 pionat-de-Scrabble-de-lescarxofa-del-Prat-web.jpg
CATEGORIES:Campionats
LOCATION:Amics d'El Prat\, Carrer del Centre\, 2\, El Prat de Llobregat\, S
 pain
GEO:41.3311664;2.093930699999987
X-APPLE-STRUCTURED-LOCATION;VALUE=URI;X-ADDRESS=Carrer del Centre\, 2\, El 
 Prat de Llobregat\, Spain;X-APPLE-RADIUS=100;X-TITLE=Amics d'El Prat:geo:4
 1.3311664,2.093930699999987
END:VEVENT
BEGIN:VEVENT
UID:0-59@ajuscrabble.cat
DTSTART;TZID=Europe/Andorra:20230225T093000
DTEND;TZID=Europe/Andorra:20230225T200000
DTSTAMP:20230131T133318Z
URL:https://www.ajuscrabble.cat/events/2n-1r-campionat-de-scrabble-de-lesc
 arxofa-del-prat/
SUMMARY:2n 1r Campionat de Scrabble de l'escarxofa del Prat
DESCRIPTION:Després d'haver hagut de suspendre'n la primera edició (a cau
 sa de la pandèmia de la COVID-19)\, el Club de Scrabble Delta Prat tornar
 à a intentar-ho el dissabte 25 de febrer del 2023\, amb el 2n 1r Campiona
 t de Scrabble de l'escarxofa del Prat.\n\nEl campionat se celebrarà al lo
 cal d’Amics d’El Prat (C/ del Centre\, 2\, del Prat de Llobregat) i es
  jugarà de 9.30 a 20 hores\, amb un total de 6 rondes amb sistema suís.\
 n\nCom a novetat\, aquest campionat serà temàtic i un dels premis anirà
  destinat a la millor paraula relacionada amb les escarxofes i amb l’agr
 icultura del Prat. També hi haurà premis al major nombre de Scrabbles i 
 per als 3 primers classificats.\n\nMés informació i inscripcions a la p
 àgina del campionat
CATEGORIES:Campionats,LLISCA
LOCATION:Amics d'El Prat\, Carrer del Centre\, 2\, El Prat de Llobregat\, S
 pain
GEO:41.3311664;2.093930699999987
X-APPLE-STRUCTURED-LOCATION;VALUE=URI;X-ADDRESS=Carrer del Centre\, 2\, El 
 Prat de Llobregat\, Spain;X-APPLE-RADIUS=100;X-TITLE=Amics d'El Prat:geo:4
 1.3311664,2.093930699999987
END:VEVENT
BEGIN:VEVENT
UID:0-70@ajuscrabble.cat
DTSTART;TZID=Europe/Andorra:20240113T094500
DTEND;TZID=Europe/Andorra:20240113T200000
DTSTAMP:20240108T115654Z
URL:https://www.ajuscrabble.cat/events/2n-campionat-de-scrabble-de-lescarx
 ofa-del-prat/
SUMMARY:2n Campionat de Scrabble de l’escarxofa del Prat
DESCRIPTION:El dissabte 13 de gener del 2024 se celebrarà el 2n Campionat 
 de Scrabble de l’escarxofa del Prat\, organitzat pel Club de Scrabble De
 lta Prat.\n\n[su_button url="https://scrabbledeltaprat.cat/campionat-escar
 xofa/" target="blank" background="#64a823" color="#ffffff" size="4" icon="
 icon: pencil-square-o" icon_color="#ffffff"]Més informació i inscripcion
 s[/su_button]
CATEGORIES:Campionats
LOCATION:Centre Cívic Sant Jordi - Ribera Baixa\, Dolores Ibárruri\, 45\,
  El Prat de Llobregat\, Barcelona\, 08820\, Spain
GEO:41.31978173434936;2.0860948460326654
X-APPLE-STRUCTURED-LOCATION;VALUE=URI;X-ADDRESS=Dolores Ibárruri\, 45\, El
  Prat de Llobregat\, Barcelona\, 08820\, Spain;X-APPLE-RADIUS=100;X-TITLE=
 Centre Cívic Sant Jordi - Ribera Baixa:geo:41.31978173434936,2.0860948460
 326654
END:VEVENT
BEGIN:VEVENT
UID:0-84@ajuscrabble.cat
DTSTART;TZID=Europe/Andorra:20250215T094500
DTEND;TZID=Europe/Andorra:20250215T200000
DTSTAMP:20250203T123502Z
URL:https://www.ajuscrabble.cat/events/3r-campionat-de-scrabble-de-lescarx
 ofa-del-prat/
SUMMARY:3r Campionat de Scrabble de l'escarxofa del Prat
DESCRIPTION:\n\nEl dissabte 15 de febrer del 2025 se celebrarà el 3r Campi
 onat de Scrabble de l’escarxofa del Prat\, organitzat pel Club de Scrabb
 le Delta Prat amb la col·laboració de l'AJUSC.\n\n[su_button url="https:
 //scrabbledeltaprat.cat/campionat-escarxofa/" target="blank" background="#
 64a823" color="#ffffff" size="4" icon="icon: pencil-square-o" icon_color="
 #ffffff"]Més informació i inscripcions[/su_button]
CATEGORIES:Activitats de clubs,Campionats
LOCATION:Centre Cívic Sant Jordi - Ribera Baixa\, Dolores Ibárruri\, 45\,
  El Prat de Llobregat\, Barcelona\, 08820\, Spain
GEO:41.31978173434936;2.0860948460326654
X-APPLE-STRUCTURED-LOCATION;VALUE=URI;X-ADDRESS=Dolores Ibárruri\, 45\, El
  Prat de Llobregat\, Barcelona\, 08820\, Spain;X-APPLE-RADIUS=100;X-TITLE=
 Centre Cívic Sant Jordi - Ribera Baixa:geo:41.31978173434936,2.0860948460
 326654
END:VEVENT
BEGIN:VEVENT
UID:0-94@ajuscrabble.cat
DTSTART;TZID=Europe/Andorra:20260221T094500
DTEND;TZID=Europe/Andorra:20260221T200000
DTSTAMP:20260205T141843Z
URL:https://www.ajuscrabble.cat/events/4t-campionat-de-scrabble-de-lescarx
 ofa-del-prat/
SUMMARY:4t Campionat de Scrabble de l'escarxofa del Prat
DESCRIPTION:El dissabte 21 de febrer del 2026 se celebrarà el 4t Campionat
  de Scrabble de l’escarxofa del Prat\, organitzat pel Club de Scrabble D
 elta Prat amb la col·laboració de l'AJUSC.\n\n[su_button url="https://sc
 rabbledeltaprat.cat/campionat-escarxofa/" target="blank" background="#64a8
 23" color="#ffffff" size="4" icon="icon: pencil-square-o" icon_color="#fff
 fff"]Més informació i inscripcions[/su_button]
CATEGORIES:Activitats de clubs,Campionats
LOCATION:Centre Cívic Jardins de la Pau\, Jardins de la Pau\, s/n\, El Pra
 t de Llobregat\, 08820\, Spain
GEO:41.322466;2.098746
X-APPLE-STRUCTURED-LOCATION;VALUE=URI;X-ADDRESS=Jardins de la Pau\, s/n\, E
 l Prat de Llobregat\, 08820\, Spain;X-APPLE-RADIUS=100;X-TITLE=Centre Cív
 ic Jardins de la Pau:geo:41.322466,2.098746
END:VEVENT
BEGIN:VTIMEZONE
TZID:Europe/Andorra
X-LIC-LOCATION:Europe/Andorra
BEGIN:STANDARD
DTSTART:20171029T020000
TZOFFSETFROM:+0200
TZOFFSETTO:+0100
TZNAME:CET
END:STANDARD
BEGIN:DAYLIGHT
DTSTART:20180325T030000
TZOFFSETFROM:+0100
TZOFFSETTO:+0200
TZNAME:CEST
END:DAYLIGHT
BEGIN:STANDARD
DTSTART:20181028T020000
TZOFFSETFROM:+0200
TZOFFSETTO:+0100
TZNAME:CET
END:STANDARD
BEGIN:DAYLIGHT
DTSTART:20190331T030000
TZOFFSETFROM:+0100
TZOFFSETTO:+0200
TZNAME:CEST
END:DAYLIGHT
BEGIN:STANDARD
DTSTART:20191027T020000
TZOFFSETFROM:+0200
TZOFFSETTO:+0100
TZNAME:CET
END:STANDARD
BEGIN:DAYLIGHT
DTSTART:20200329T030000
TZOFFSETFROM:+0100
TZOFFSETTO:+0200
TZNAME:CEST
END:DAYLIGHT
BEGIN:STANDARD
DTSTART:20201025T020000
TZOFFSETFROM:+0200
TZOFFSETTO:+0100
TZNAME:CET
END:STANDARD
BEGIN:DAYLIGHT
DTSTART:20210328T030000
TZOFFSETFROM:+0100
TZOFFSETTO:+0200
TZNAME:CEST
END:DAYLIGHT
BEGIN:STANDARD
DTSTART:20211031T020000
TZOFFSETFROM:+0200
TZOFFSETTO:+0100
TZNAME:CET
END:STANDARD
BEGIN:DAYLIGHT
DTSTART:20220327T030000
TZOFFSETFROM:+0100
TZOFFSETTO:+0200
TZNAME:CEST
END:DAYLIGHT
BEGIN:STANDARD
DTSTART:20221030T020000
TZOFFSETFROM:+0200
TZOFFSETTO:+0100
TZNAME:CET
END:STANDARD
BEGIN:DAYLIGHT
DTSTART:20230326T030000
TZOFFSETFROM:+0100
TZOFFSETTO:+0200
TZNAME:CEST
END:DAYLIGHT
BEGIN:STANDARD
DTSTART:20231029T020000
TZOFFSETFROM:+0200
TZOFFSETTO:+0100
TZNAME:CET
END:STANDARD
BEGIN:DAYLIGHT
DTSTART:20240331T030000
TZOFFSETFROM:+0100
TZOFFSETTO:+0200
TZNAME:CEST
END:DAYLIGHT
BEGIN:STANDARD
DTSTART:20241027T020000
TZOFFSETFROM:+0200
TZOFFSETTO:+0100
TZNAME:CET
END:STANDARD
BEGIN:DAYLIGHT
DTSTART:20250330T030000
TZOFFSETFROM:+0100
TZOFFSETTO:+0200
TZNAME:CEST
END:DAYLIGHT
BEGIN:STANDARD
DTSTART:20251026T020000
TZOFFSETFROM:+0200
TZOFFSETTO:+0100
TZNAME:CET
END:STANDARD
END:VTIMEZONE
END:VCALENDAR