BEGIN:VCALENDAR
VERSION:2.0
PRODID:-//wp-events-plugin.com//6.4.6.4//EN
TZID:Europe/Andorra
X-WR-TIMEZONE:Europe/Andorra
BEGIN:VEVENT
UID:6-9@ajuscrabble.cat
DTSTART;TZID=Europe/Andorra:20171202T090000
DTEND;TZID=Europe/Andorra:20171202T193000
DTSTAMP:20171127T121739Z
URL:https://www.ajuscrabble.cat/events/2n-campionat-mundial-de-scrabble-du
 plicat-en-catala/
SUMMARY:2n Campionat Mundial de Scrabble Duplicat en Català
DESCRIPTION:\n\n\n\n\nTeniu tota la informació sobre el 2n Campionat Mund
 ial de Scrabble Duplicat en Català al web del campionat.\n\n\n\n\n
CATEGORIES:Campionats
END:VEVENT
BEGIN:VEVENT
UID:0-6@ajuscrabble.cat
DTSTART;TZID=Europe/Andorra:20180616T100000
DTEND;TZID=Europe/Andorra:20180616T140000
DTSTAMP:20190601T154028Z
URL:https://www.ajuscrabble.cat/events/cloenda-de-la-llisca-a-matadepera/
SUMMARY:Cloenda de la 6a temporada de la LLISCA a Matadepera
DESCRIPTION:El dissabte 16 de juny a les 10 h\, començarà la sisena i d
 arrera jornada de la sisena temporada de la LLISCA\, organitzada per Scra
 bble Matadepera\, al Bar del Casal de la Gent Gran\, a la carretera de T
 errassa 35 de Matadepera.\n\nEn aquesta jornada de la LLISCA\, es jugarà
  amb rellotges d’escacs programats a 25 minuts per jugador i el diccion
 ari arbitral serà el DISC (que es basa en el DIEC). Els equips participa
 nts hauran de portar un joc complet: tauler\, faristols i fitxes i\, si 
 és possible\, un rellotge d’escacs.\n\n\nEn acabar la tercera ronda de
  la jornada\, s’actualitzaran les classificacions i es farà el lliur
 ament de premis. Després hi haurà el dinar de germanor\, al mateix esta
 bliment. Encara no tenim concretat el menú\, però l'any passat va haver-
 hi un aperitiu\, paella\, postres\, beguda (aigua o vi) i cafès per uns 2
 0 € per persona. Al formulari de confirmació d’assistència podeu in
 dicar quantes persones us quedareu al dinar.\n\n\nUs preguem que ompliu el
  formulari de confirmació d’assistència d’aquesta jornada\, clicant
  a l’enllaç que hi ha després d’aquest paràgraf\, abans de les 23.
 59 hores del dijous 14 de juny\, per informar-nos si assistireu a la jorn
 ada\, així com d’altres detalls que ens seran útils per a l’organitz
 ació de la trobada. Si sou jugadors habituals de la LLISCA i NO podeu 
 participar-hi\, indiqueu-ho també al formulari si us plau.\n\n 	\n\n 	For
 mulari d’inscripció a la jornada de la LLISCA de Matadepera\n 	Assist
 ència a les jornades de la 6a temporada de la LLISCA\n\n\n
CATEGORIES:6a LLISCA,LLISCA
LOCATION:Bar del Casal de la Gent Gran\, Carretera de Terrassa\, 35\, Matad
 epera\, Spain
GEO:41.5971708;2.026080800000045
X-APPLE-STRUCTURED-LOCATION;VALUE=URI;X-ADDRESS=Carretera de Terrassa\, 35\
 , Matadepera\, Spain;X-APPLE-RADIUS=100;X-TITLE=Bar del Casal de la Gent G
 ran:geo:41.5971708,2.026080800000045
END:VEVENT
BEGIN:VEVENT
UID:0-25@ajuscrabble.cat
DTSTART;TZID=Europe/Andorra:20190615T100000
DTEND;TZID=Europe/Andorra:20190615T140000
DTSTAMP:20190601T161957Z
URL:https://www.ajuscrabble.cat/events/jornada-de-la-7a-temporada-de-la-ll
 isca-a-matadepera/
SUMMARY:Cloenda de la 7a temporada de la LLISCA a Matadepera
DESCRIPTION:El dissabte 15 de juny a les 10 h\, començarà la sisena i d
 arrera jornada de la setena temporada de la LLISCA\, organitzada per Scr
 abble Matadepera\, al Bar del Casal de la Gent Gran\, a la carretera de 
 Terrassa 35 de Matadepera.\n\nEn aquesta jornada de la LLISCA\, es jugar
 à amb rellotges d’escacs programats a 25 minuts per jugador i el dicci
 onari arbitral serà el DISC (que es basa en el DIEC). Els equips partici
 pants hauran de portar un joc complet: tauler\, faristols i fitxes i\, si
  és possible\, un rellotge d’escacs.\n\n\nEn acabar la tercera ronda d
 e la jornada\, s’actualitzaran les classificacions i es farà el lliu
 rament de premis. Després hi haurà el dinar de germanor\, al mateix est
 abliment. Encara no tenim concretat el menú\, però l’any passat va hav
 er-hi un aperitiu\, paella\, postres\, beguda (aigua o vi) i cafès per un
 s 20 € per persona. Al formulari de confirmació d’assistència podeu
  indicar quantes persones us quedareu al dinar.\n\n\nUs preguem que ompliu
  el formulari de confirmació d’assistència d’aquesta jornada\, clic
 ant a l’enllaç que hi ha després d’aquest paràgraf\, abans de les 
 23.59 hores del divendres 14 de juny\, per informar-nos si assistireu a la
  jornada\, així com d’altres detalls que ens seran útils per a l’org
 anització de la trobada. Si sou jugadors habituals de la LLISCA i NO p
 odeu participar-hi\, indiqueu-ho també al formulari si us plau.\n\n 	Form
 ulari d’inscripció a la jornada de la LLISCA de Matadepera\n 	Assistè
 ncia a les jornades de la 7a temporada de la LLISCA\n 	\n
CATEGORIES:7a LLISCA
LOCATION:Bar del Casal de la Gent Gran\, Carretera de Terrassa\, 35\, Matad
 epera\, Spain
GEO:41.5971708;2.026080800000045
X-APPLE-STRUCTURED-LOCATION;VALUE=URI;X-ADDRESS=Carretera de Terrassa\, 35\
 , Matadepera\, Spain;X-APPLE-RADIUS=100;X-TITLE=Bar del Casal de la Gent G
 ran:geo:41.5971708,2.026080800000045
END:VEVENT
BEGIN:VTIMEZONE
TZID:Europe/Andorra
X-LIC-LOCATION:Europe/Andorra
BEGIN:STANDARD
DTSTART:20171029T020000
TZOFFSETFROM:+0200
TZOFFSETTO:+0100
TZNAME:CET
END:STANDARD
BEGIN:DAYLIGHT
DTSTART:20180325T030000
TZOFFSETFROM:+0100
TZOFFSETTO:+0200
TZNAME:CEST
END:DAYLIGHT
BEGIN:STANDARD
DTSTART:20181028T020000
TZOFFSETFROM:+0200
TZOFFSETTO:+0100
TZNAME:CET
END:STANDARD
BEGIN:DAYLIGHT
DTSTART:20190331T030000
TZOFFSETFROM:+0100
TZOFFSETTO:+0200
TZNAME:CEST
END:DAYLIGHT
END:VTIMEZONE
END:VCALENDAR